BEGIN:VCALENDAR
VERSION:2.0
PRODID:-//Station Street Studio - ECPv6.15.20//NONSGML v1.0//EN
CALSCALE:GREGORIAN
METHOD:PUBLISH
X-WR-CALNAME:Station Street Studio
X-ORIGINAL-URL:https://stage.stationstreetstudio.com
X-WR-CALDESC:Events for Station Street Studio
REFRESH-INTERVAL;VALUE=DURATION:PT1H
X-Robots-Tag:noindex
X-PUBLISHED-TTL:PT1H
BEGIN:VTIMEZONE
TZID:Europe/London
BEGIN:DAYLIGHT
TZOFFSETFROM:+0000
TZOFFSETTO:+0100
TZNAME:BST
DTSTART:20230326T010000
END:DAYLIGHT
BEGIN:STANDARD
TZOFFSETFROM:+0100
TZOFFSETTO:+0000
TZNAME:GMT
DTSTART:20231029T010000
END:STANDARD
BEGIN:DAYLIGHT
TZOFFSETFROM:+0000
TZOFFSETTO:+0100
TZNAME:BST
DTSTART:20240331T010000
END:DAYLIGHT
BEGIN:STANDARD
TZOFFSETFROM:+0100
TZOFFSETTO:+0000
TZNAME:GMT
DTSTART:20241027T010000
END:STANDARD
BEGIN:DAYLIGHT
TZOFFSETFROM:+0000
TZOFFSETTO:+0100
TZNAME:BST
DTSTART:20250330T010000
END:DAYLIGHT
BEGIN:STANDARD
TZOFFSETFROM:+0100
TZOFFSETTO:+0000
TZNAME:GMT
DTSTART:20251026T010000
END:STANDARD
END:VTIMEZONE
BEGIN:VEVENT
DTSTART;TZID=Europe/London:20241209T183000
DTEND;TZID=Europe/London:20241209T193000
DTSTAMP:20260424T125138
CREATED:20241027T161902Z
LAST-MODIFIED:20241111T171311Z
UID:10000609-1733769000-1733772600@stage.stationstreetstudio.com
SUMMARY:Station Street Shakers
DESCRIPTION:A twerk class combining African rhythmic movements and sounds\, fostering confidence and self-expression while providing an engaging workout. This fusion of dance and fitness celebrates women’s bodies in a supportive\, empowering environment.
URL:https://stage.stationstreetstudio.com/event/station-street-shakers-2/2024-12-09/
LOCATION:Station Street Studio\, 26a Station Street\, Lewes\, East Sussex\, BN7 2DB\, United Kingdom
CATEGORIES:Twrk4fitness@gmail.com
ORGANIZER;CN="Twerk4fitness Africa":MAILTO:Twrk4fitness@gmail.com
END:VEVENT
BEGIN:VEVENT
DTSTART;TZID=Europe/London:20241202T183000
DTEND;TZID=Europe/London:20241202T193000
DTSTAMP:20260424T125138
CREATED:20241027T161902Z
LAST-MODIFIED:20241111T171311Z
UID:10000608-1733164200-1733167800@stage.stationstreetstudio.com
SUMMARY:Station Street Shakers
DESCRIPTION:A twerk class combining African rhythmic movements and sounds\, fostering confidence and self-expression while providing an engaging workout. This fusion of dance and fitness celebrates women’s bodies in a supportive\, empowering environment.
URL:https://stage.stationstreetstudio.com/event/station-street-shakers-2/2024-12-02/
LOCATION:Station Street Studio\, 26a Station Street\, Lewes\, East Sussex\, BN7 2DB\, United Kingdom
CATEGORIES:Twrk4fitness@gmail.com
ORGANIZER;CN="Twerk4fitness Africa":MAILTO:Twrk4fitness@gmail.com
END:VEVENT
BEGIN:VEVENT
DTSTART;TZID=Europe/London:20241125T183000
DTEND;TZID=Europe/London:20241125T193000
DTSTAMP:20260424T125138
CREATED:20241027T161902Z
LAST-MODIFIED:20241111T171311Z
UID:10000607-1732559400-1732563000@stage.stationstreetstudio.com
SUMMARY:Station Street Shakers
DESCRIPTION:A twerk class combining African rhythmic movements and sounds\, fostering confidence and self-expression while providing an engaging workout. This fusion of dance and fitness celebrates women’s bodies in a supportive\, empowering environment.
URL:https://stage.stationstreetstudio.com/event/station-street-shakers-2/2024-11-25/
LOCATION:Station Street Studio\, 26a Station Street\, Lewes\, East Sussex\, BN7 2DB\, United Kingdom
CATEGORIES:Twrk4fitness@gmail.com
ORGANIZER;CN="Twerk4fitness Africa":MAILTO:Twrk4fitness@gmail.com
END:VEVENT
BEGIN:VEVENT
DTSTART;TZID=Europe/London:20241118T183000
DTEND;TZID=Europe/London:20241118T193000
DTSTAMP:20260424T125138
CREATED:20241027T161902Z
LAST-MODIFIED:20241111T171311Z
UID:10000606-1731954600-1731958200@stage.stationstreetstudio.com
SUMMARY:Station Street Shakers
DESCRIPTION:A twerk class combining African rhythmic movements and sounds\, fostering confidence and self-expression while providing an engaging workout. This fusion of dance and fitness celebrates women’s bodies in a supportive\, empowering environment.
URL:https://stage.stationstreetstudio.com/event/station-street-shakers-2/2024-11-18/
LOCATION:Station Street Studio\, 26a Station Street\, Lewes\, East Sussex\, BN7 2DB\, United Kingdom
CATEGORIES:Twrk4fitness@gmail.com
ORGANIZER;CN="Twerk4fitness Africa":MAILTO:Twrk4fitness@gmail.com
END:VEVENT
BEGIN:VEVENT
DTSTART;TZID=Europe/London:20241111T183000
DTEND;TZID=Europe/London:20241111T193000
DTSTAMP:20260424T125138
CREATED:20241027T161902Z
LAST-MODIFIED:20241111T171311Z
UID:10000605-1731349800-1731353400@stage.stationstreetstudio.com
SUMMARY:Station Street Shakers
DESCRIPTION:A twerk class combining African rhythmic movements and sounds\, fostering confidence and self-expression while providing an engaging workout. This fusion of dance and fitness celebrates women’s bodies in a supportive\, empowering environment.
URL:https://stage.stationstreetstudio.com/event/station-street-shakers-2/2024-11-11/
LOCATION:Station Street Studio\, 26a Station Street\, Lewes\, East Sussex\, BN7 2DB\, United Kingdom
CATEGORIES:Twrk4fitness@gmail.com
ORGANIZER;CN="Twerk4fitness Africa":MAILTO:Twrk4fitness@gmail.com
END:VEVENT
BEGIN:VEVENT
DTSTART;TZID=Europe/London:20241104T183000
DTEND;TZID=Europe/London:20241104T193000
DTSTAMP:20260424T125138
CREATED:20241027T161902Z
LAST-MODIFIED:20241111T171311Z
UID:10000604-1730745000-1730748600@stage.stationstreetstudio.com
SUMMARY:Station Street Shakers
DESCRIPTION:A twerk class combining African rhythmic movements and sounds\, fostering confidence and self-expression while providing an engaging workout. This fusion of dance and fitness celebrates women’s bodies in a supportive\, empowering environment.
URL:https://stage.stationstreetstudio.com/event/station-street-shakers-2/2024-11-04/
LOCATION:Station Street Studio\, 26a Station Street\, Lewes\, East Sussex\, BN7 2DB\, United Kingdom
CATEGORIES:Twrk4fitness@gmail.com
ORGANIZER;CN="Twerk4fitness Africa":MAILTO:Twrk4fitness@gmail.com
END:VEVENT
END:VCALENDAR